Package: h5mread Version: 0.99.4 Command: rm -rf h5mread.buildbin-libdir && mkdir h5mread.buildbin-libdir && /Users/biocbuild/BBS/utils/build-universal.sh h5mread_0.99.4.tar.gz /Library/Frameworks/R.framework/Resources/bin/R h5mread.buildbin-libdir StartedAt: 2025-02-09 22:17:00 -0500 (Sun, 09 Feb 2025) EndedAt: 2025-02-09 22:17:10 -0500 (Sun, 09 Feb 2025) EllapsedTime: 10.2 seconds RetCode: 0 Status: OK PackageFile: h5mread_0.99.4.tgz PackageFileSize: 5.711 MiB