Package: h5mread Version: 0.99.4 Command: /Library/Frameworks/R.framework/Resources/bin/R CMD build --keep-empty-dirs --no-resave-data h5mread StartedAt: 2025-02-09 16:34:35 -0500 (Sun, 09 Feb 2025) EndedAt: 2025-02-09 16:36:20 -0500 (Sun, 09 Feb 2025) EllapsedTime: 105.0 seconds RetCode: 0 Status: OK PackageFile: h5mread_0.99.4.tar.gz PackageFileSize: 2.367 MiB