Package: h5mread Version: 0.99.4 Command: /Library/Frameworks/R.framework/Resources/bin/R CMD check --install=check:h5mread.install-out.txt --library=/Library/Frameworks/R.framework/Resources/library --no-vignettes --timings h5mread_0.99.4.tar.gz StartedAt: 2025-02-12 19:39:22 -0500 (Wed, 12 Feb 2025) EndedAt: 2025-02-12 19:40:55 -0500 (Wed, 12 Feb 2025) EllapsedTime: 93.1 seconds RetCode: 0 Status: WARNINGS CheckDir: h5mread.Rcheck Warnings: 2