Package: h5mread Version: 0.99.4 Command: /Library/Frameworks/R.framework/Resources/bin/R CMD INSTALL h5mread StartedAt: 2025-02-09 15:03:35 -0500 (Sun, 09 Feb 2025) EndedAt: 2025-02-09 15:03:44 -0500 (Sun, 09 Feb 2025) EllapsedTime: 8.7 seconds RetCode: 0 Status: OK