Package: h5mread Version: 0.99.4 Command: /Library/Frameworks/R.framework/Resources/bin/R CMD INSTALL h5mread StartedAt: 2025-02-12 15:11:17 -0500 (Wed, 12 Feb 2025) EndedAt: 2025-02-12 15:11:46 -0500 (Wed, 12 Feb 2025) EllapsedTime: 29.4 seconds RetCode: 0 Status: OK