Package: h5mread Version: 0.99.4 Command: /home/biocbuild/bbs-3.21-bioc/R/bin/R CMD build --keep-empty-dirs --no-resave-data h5mread StartedAt: 2025-02-12 17:31:32 -0500 (Wed, 12 Feb 2025) EndedAt: 2025-02-12 17:35:19 -0500 (Wed, 12 Feb 2025) EllapsedTime: 226.8 seconds RetCode: 0 Status: OK PackageFile: h5mread_0.99.4.tar.gz PackageFileSize: 2.367 MiB