Package: h5mread Version: 0.99.4 Command: /home/biocbuild/bbs-3.21-bioc/R/bin/R CMD INSTALL h5mread StartedAt: 2025-02-09 15:33:48 -0500 (Sun, 09 Feb 2025) EndedAt: 2025-02-09 15:34:08 -0500 (Sun, 09 Feb 2025) EllapsedTime: 20.0 seconds RetCode: 0 Status: OK