Package: hapFabia Version: 1.49.0 Command: /Library/Frameworks/R.framework/Resources/bin/R CMD build --keep-empty-dirs --no-resave-data hapFabia StartedAt: 2025-02-12 16:34:47 -0500 (Wed, 12 Feb 2025) EndedAt: 2025-02-12 16:34:59 -0500 (Wed, 12 Feb 2025) EllapsedTime: 12.1 seconds RetCode: 0 Status: OK PackageFile: hapFabia_1.49.0.tar.gz PackageFileSize: 1.623 MiB