Package: hapFabia Version: 1.49.0 Command: /home/biocbuild/R/R/bin/R CMD check --install=check:hapFabia.install-out.txt --library=/home/biocbuild/R/R/site-library --no-vignettes --timings hapFabia_1.49.0.tar.gz StartedAt: 2025-01-28 11:23:17 -0000 (Tue, 28 Jan 2025) EndedAt: 2025-01-28 11:24:15 -0000 (Tue, 28 Jan 2025) EllapsedTime: 58.0 seconds RetCode: 0 Status: WARNINGS CheckDir: hapFabia.Rcheck Warnings: 2