Package: hapFabia Version: 1.49.0 Command: /Library/Frameworks/R.framework/Resources/bin/R CMD build --keep-empty-dirs --no-resave-data hapFabia StartedAt: 2025-02-09 17:01:47 -0500 (Sun, 09 Feb 2025) EndedAt: 2025-02-09 17:02:19 -0500 (Sun, 09 Feb 2025) EllapsedTime: 32.1 seconds RetCode: 0 Status: OK PackageFile: hapFabia_1.49.0.tar.gz PackageFileSize: 1.623 MiB