Package: hapFabia Version: 1.49.0 Command: /Library/Frameworks/R.framework/Resources/bin/R CMD check --install=check:hapFabia.install-out.txt --library=/Library/Frameworks/R.framework/Resources/library --no-vignettes --timings hapFabia_1.49.0.tar.gz StartedAt: 2025-02-09 21:12:51 -0500 (Sun, 09 Feb 2025) EndedAt: 2025-02-09 21:14:08 -0500 (Sun, 09 Feb 2025) EllapsedTime: 76.9 seconds RetCode: 0 Status: WARNINGS CheckDir: hapFabia.Rcheck Warnings: 1