Package: hapFabia Version: 1.49.0 Command: /home/biocbuild/bbs-3.21-bioc/R/bin/R CMD build --keep-empty-dirs --no-resave-data hapFabia StartedAt: 2025-02-09 17:35:06 -0500 (Sun, 09 Feb 2025) EndedAt: 2025-02-09 17:35:27 -0500 (Sun, 09 Feb 2025) EllapsedTime: 21.0 seconds RetCode: 0 Status: OK PackageFile: hapFabia_1.49.0.tar.gz PackageFileSize: 1.622 MiB