Package: hapFabia Version: 1.49.0 Command: rm -rf hapFabia.buildbin-libdir && mkdir hapFabia.buildbin-libdir && E:\biocbuild\bbs-3.21-bioc\R\bin\R.exe CMD INSTALL --build --library=hapFabia.buildbin-libdir hapFabia_1.49.0.tar.gz StartedAt: 2025-02-13 08:05:21 -0500 (Thu, 13 Feb 2025) EndedAt: 2025-02-13 08:06:14 -0500 (Thu, 13 Feb 2025) EllapsedTime: 53.1 seconds RetCode: 0 Status: OK PackageFile: hapFabia_1.49.0.zip PackageFileSize: 1.725 MiB