Package: hapFabia Version: 1.49.0 Command: E:\biocbuild\bbs-3.21-bioc\R\bin\R.exe CMD check --no-multiarch --install=check:hapFabia.install-out.txt --library=E:\biocbuild\bbs-3.21-bioc\R\library --no-vignettes --timings hapFabia_1.49.0.tar.gz StartedAt: 2025-02-13 02:01:22 -0500 (Thu, 13 Feb 2025) EndedAt: 2025-02-13 02:02:46 -0500 (Thu, 13 Feb 2025) EllapsedTime: 83.9 seconds RetCode: 0 Status: WARNINGS CheckDir: hapFabia.Rcheck Warnings: 2