Package: hapFabia Version: 1.49.0 Command: E:\biocbuild\bbs-3.21-bioc\R\bin\R.exe CMD INSTALL hapFabia StartedAt: 2025-02-09 15:23:47 -0500 (Sun, 09 Feb 2025) EndedAt: 2025-02-09 15:24:52 -0500 (Sun, 09 Feb 2025) EllapsedTime: 64.9 seconds RetCode: 0 Status: OK