Package: hca Version: 1.15.0 Command: /Library/Frameworks/R.framework/Resources/bin/R CMD build --keep-empty-dirs --no-resave-data hca StartedAt: 2025-02-12 16:59:13 -0500 (Wed, 12 Feb 2025) EndedAt: 2025-02-12 16:59:34 -0500 (Wed, 12 Feb 2025) EllapsedTime: 20.6 seconds RetCode: 1 Status: ERROR PackageFile: None PackageFileSize: NA