Package: hca Version: 1.15.0 Command: /home/biocbuild/bbs-3.21-bioc/R/bin/R CMD check --install=check:hca.install-out.txt --library=/home/biocbuild/bbs-3.21-bioc/R/site-library --timings hca_1.15.0.tar.gz StartedAt: 2025-01-31 23:02:23 -0500 (Fri, 31 Jan 2025) EndedAt: 2025-01-31 23:03:47 -0500 (Fri, 31 Jan 2025) EllapsedTime: 84.1 seconds RetCode: 1 Status: ERROR CheckDir: hca.Rcheck Warnings: NA