Package: hca Version: 1.15.0 Command: chmod a+r hca -R && E:\biocbuild\bbs-3.21-bioc\R\bin\R.exe CMD build --keep-empty-dirs --no-resave-data hca StartedAt: 2025-02-12 19:16:37 -0500 (Wed, 12 Feb 2025) EndedAt: 2025-02-12 19:17:12 -0500 (Wed, 12 Feb 2025) EllapsedTime: 35.3 seconds RetCode: 1 Status: ERROR PackageFile: None PackageFileSize: NA