Package: heatmaps Version: 1.31.0 Maintainer: Malcolm Perry MaintainerEmail: mgperry32 at gmail.com git_url: https://git.bioconductor.org/packages/heatmaps git_branch: devel git_last_commit: 2ebde80 git_last_commit_date: 2024-10-29 10:19:21 -0500 (Tue, 29 Oct 2024)