Package: heatmaps Version: 1.31.0 Command: /Library/Frameworks/R.framework/Resources/bin/R CMD check --install=check:heatmaps.install-out.txt --library=/Library/Frameworks/R.framework/Resources/library --no-vignettes --timings heatmaps_1.31.0.tar.gz StartedAt: 2025-02-09 19:35:57 -0500 (Sun, 09 Feb 2025) EndedAt: 2025-02-09 19:36:45 -0500 (Sun, 09 Feb 2025) EllapsedTime: 47.6 seconds RetCode: 0 Status: OK CheckDir: heatmaps.Rcheck Warnings: 0