Package: heatmaps Version: 1.31.0 Command: /Library/Frameworks/R.framework/Resources/bin/R CMD check --install=check:heatmaps.install-out.txt --library=/Library/Frameworks/R.framework/Resources/library --no-vignettes --timings heatmaps_1.31.0.tar.gz StartedAt: 2025-02-04 20:59:06 -0500 (Tue, 04 Feb 2025) EndedAt: 2025-02-04 21:01:24 -0500 (Tue, 04 Feb 2025) EllapsedTime: 137.9 seconds RetCode: 0 Status: OK CheckDir: heatmaps.Rcheck Warnings: 0