Package: heatmaps Version: 1.31.0 Command: /Library/Frameworks/R.framework/Resources/bin/R CMD INSTALL heatmaps StartedAt: 2025-02-04 15:23:55 -0500 (Tue, 04 Feb 2025) EndedAt: 2025-02-04 15:24:18 -0500 (Tue, 04 Feb 2025) EllapsedTime: 23.1 seconds RetCode: 0 Status: OK