Package: heatmaps Version: 1.31.0 Command: /home/biocbuild/bbs-3.21-bioc/R/bin/R CMD build --keep-empty-dirs --no-resave-data heatmaps StartedAt: 2025-02-09 17:35:50 -0500 (Sun, 09 Feb 2025) EndedAt: 2025-02-09 17:37:18 -0500 (Sun, 09 Feb 2025) EllapsedTime: 88.3 seconds RetCode: 0 Status: OK PackageFile: heatmaps_1.31.0.tar.gz PackageFileSize: 8.314 MiB