Package: heatmaps Version: 1.31.0 Command: /home/biocbuild/bbs-3.21-bioc/R/bin/R CMD INSTALL heatmaps StartedAt: 2025-02-04 15:29:11 -0500 (Tue, 04 Feb 2025) EndedAt: 2025-02-04 15:29:27 -0500 (Tue, 04 Feb 2025) EllapsedTime: 16.8 seconds RetCode: 0 Status: OK