Package: heatmaps Version: 1.31.0 Command: rm -rf heatmaps.buildbin-libdir && mkdir heatmaps.buildbin-libdir && E:\biocbuild\bbs-3.21-bioc\R\bin\R.exe CMD INSTALL --build --library=heatmaps.buildbin-libdir heatmaps_1.31.0.tar.gz StartedAt: 2025-02-10 07:54:41 -0500 (Mon, 10 Feb 2025) EndedAt: 2025-02-10 07:55:34 -0500 (Mon, 10 Feb 2025) EllapsedTime: 53.1 seconds RetCode: 0 Status: OK PackageFile: heatmaps_1.31.0.zip PackageFileSize: 8.326 MiB