Package: heatmaps Version: 1.31.0 Command: E:\biocbuild\bbs-3.21-bioc\R\bin\R.exe CMD INSTALL heatmaps StartedAt: 2025-02-09 15:42:06 -0500 (Sun, 09 Feb 2025) EndedAt: 2025-02-09 15:42:47 -0500 (Sun, 09 Feb 2025) EllapsedTime: 40.8 seconds RetCode: 0 Status: OK