Package: hiAnnotator Version: 1.41.0 Command: /Library/Frameworks/R.framework/Resources/bin/R CMD build --keep-empty-dirs --no-resave-data hiAnnotator StartedAt: 2025-02-09 16:36:07 -0500 (Sun, 09 Feb 2025) EndedAt: 2025-02-09 16:36:30 -0500 (Sun, 09 Feb 2025) EllapsedTime: 23.2 seconds RetCode: 0 Status: OK PackageFile: hiAnnotator_1.41.0.tar.gz PackageFileSize: 733.3 KiB