Package: hiAnnotator Version: 1.41.0 Command: /Library/Frameworks/R.framework/Resources/bin/R CMD INSTALL hiAnnotator StartedAt: 2025-02-09 15:10:21 -0500 (Sun, 09 Feb 2025) EndedAt: 2025-02-09 15:10:35 -0500 (Sun, 09 Feb 2025) EllapsedTime: 14.7 seconds RetCode: 0 Status: OK