Package: hiAnnotator Version: 1.41.0 Command: /home/biocbuild/R/R/bin/R CMD build --keep-empty-dirs --no-resave-data hiAnnotator StartedAt: 2025-01-28 23:33:30 -0000 (Tue, 28 Jan 2025) EndedAt: 2025-01-28 23:34:45 -0000 (Tue, 28 Jan 2025) EllapsedTime: 75.0 seconds RetCode: 0 Status: OK PackageFile: hiAnnotator_1.41.0.tar.gz PackageFileSize: 679.7 KiB