Package: hiAnnotator Version: 1.41.0 Command: /home/biocbuild/R/R/bin/R CMD check --install=check:hiAnnotator.install-out.txt --library=/home/biocbuild/R/R/site-library --no-vignettes --timings hiAnnotator_1.41.0.tar.gz StartedAt: 2025-01-28 11:26:35 -0000 (Tue, 28 Jan 2025) EndedAt: 2025-01-28 11:31:32 -0000 (Tue, 28 Jan 2025) EllapsedTime: 297.2 seconds RetCode: 0 Status: OK CheckDir: hiAnnotator.Rcheck Warnings: 0