Package: hiAnnotator Version: 1.41.0 Command: /home/biocbuild/bbs-3.21-bioc/R/bin/R CMD INSTALL hiAnnotator StartedAt: 2025-02-09 15:28:09 -0500 (Sun, 09 Feb 2025) EndedAt: 2025-02-09 15:28:42 -0500 (Sun, 09 Feb 2025) EllapsedTime: 33.6 seconds RetCode: 0 Status: OK