Package: hiAnnotator Version: 1.41.0 Command: rm -rf hiAnnotator.buildbin-libdir && mkdir hiAnnotator.buildbin-libdir && E:\biocbuild\bbs-3.21-bioc\R\bin\R.exe CMD INSTALL --build --library=hiAnnotator.buildbin-libdir hiAnnotator_1.41.0.tar.gz StartedAt: 2025-02-05 08:06:52 -0500 (Wed, 05 Feb 2025) EndedAt: 2025-02-05 08:07:47 -0500 (Wed, 05 Feb 2025) EllapsedTime: 55.3 seconds RetCode: 0 Status: OK PackageFile: hiAnnotator_1.41.0.zip PackageFileSize: 764.7 KiB