Package: hiAnnotator Version: 1.41.0 Command: E:\biocbuild\bbs-3.21-bioc\R\bin\R.exe CMD INSTALL hiAnnotator StartedAt: 2025-02-04 16:02:48 -0500 (Tue, 04 Feb 2025) EndedAt: 2025-02-04 16:03:28 -0500 (Tue, 04 Feb 2025) EllapsedTime: 40.0 seconds RetCode: 0 Status: OK