Package: hiReadsProcessor Version: 1.43.0 Command: /Library/Frameworks/R.framework/Resources/bin/R CMD INSTALL hiReadsProcessor StartedAt: 2025-02-12 15:11:15 -0500 (Wed, 12 Feb 2025) EndedAt: 2025-02-12 15:11:31 -0500 (Wed, 12 Feb 2025) EllapsedTime: 15.5 seconds RetCode: 0 Status: OK