Package: hiReadsProcessor Version: 1.43.0 Command: /home/biocbuild/R/R/bin/R CMD build --keep-empty-dirs --no-resave-data hiReadsProcessor StartedAt: 2025-01-28 23:38:04 -0000 (Tue, 28 Jan 2025) EndedAt: 2025-01-28 23:39:24 -0000 (Tue, 28 Jan 2025) EllapsedTime: 80.0 seconds RetCode: 0 Status: OK PackageFile: hiReadsProcessor_1.43.0.tar.gz PackageFileSize: 3.147 MiB