Package: hiReadsProcessor Version: 1.43.0 Command: rm -rf hiReadsProcessor.buildbin-libdir && mkdir hiReadsProcessor.buildbin-libdir && /Users/biocbuild/BBS/utils/build-universal.sh hiReadsProcessor_1.43.0.tar.gz /Library/Frameworks/R.framework/Resources/bin/R hiReadsProcessor.buildbin-libdir StartedAt: 2025-02-10 00:57:56 -0500 (Mon, 10 Feb 2025) EndedAt: 2025-02-10 00:58:51 -0500 (Mon, 10 Feb 2025) EllapsedTime: 54.8 seconds RetCode: 0 Status: OK PackageFile: hiReadsProcessor_1.43.0.tgz PackageFileSize: 3.002 MiB