Package: hiReadsProcessor Version: 1.43.0 Command: /home/biocbuild/bbs-3.21-bioc/R/bin/R CMD build --keep-empty-dirs --no-resave-data hiReadsProcessor StartedAt: 2025-02-04 17:37:58 -0500 (Tue, 04 Feb 2025) EndedAt: 2025-02-04 17:38:56 -0500 (Tue, 04 Feb 2025) EllapsedTime: 57.2 seconds RetCode: 0 Status: OK PackageFile: hiReadsProcessor_1.43.0.tar.gz PackageFileSize: 3.147 MiB