Package: hierGWAS Version: 1.37.0 Command: /Library/Frameworks/R.framework/Resources/bin/R CMD build --keep-empty-dirs --no-resave-data hierGWAS StartedAt: 2025-02-04 16:37:29 -0500 (Tue, 04 Feb 2025) EndedAt: 2025-02-04 16:38:28 -0500 (Tue, 04 Feb 2025) EllapsedTime: 58.6 seconds RetCode: 0 Status: OK PackageFile: hierGWAS_1.37.0.tar.gz PackageFileSize: 566.7 KiB