Package: hierGWAS Version: 1.37.0 Command: /home/biocbuild/R/R/bin/R CMD build --keep-empty-dirs --no-resave-data hierGWAS StartedAt: 2025-01-28 23:36:11 -0000 (Tue, 28 Jan 2025) EndedAt: 2025-01-28 23:38:32 -0000 (Tue, 28 Jan 2025) EllapsedTime: 141.0 seconds RetCode: 0 Status: OK PackageFile: hierGWAS_1.37.0.tar.gz PackageFileSize: 572.6 KiB