Package: hierGWAS Version: 1.37.0 Command: /home/biocbuild/R/R/bin/R CMD INSTALL hierGWAS StartedAt: 2025-01-29 20:15:28 -0000 (Wed, 29 Jan 2025) EndedAt: 2025-01-29 20:15:35 -0000 (Wed, 29 Jan 2025) EllapsedTime: 7.6 seconds RetCode: 0 Status: OK