Package: hierGWAS Version: 1.37.0 Command: rm -rf hierGWAS.buildbin-libdir && mkdir hierGWAS.buildbin-libdir && /Users/biocbuild/BBS/utils/build-universal.sh hierGWAS_1.37.0.tar.gz /Library/Frameworks/R.framework/Resources/bin/R hierGWAS.buildbin-libdir StartedAt: 2025-02-05 00:44:04 -0500 (Wed, 05 Feb 2025) EndedAt: 2025-02-05 00:44:14 -0500 (Wed, 05 Feb 2025) EllapsedTime: 10.4 seconds RetCode: 0 Status: OK PackageFile: hierGWAS_1.37.0.tgz PackageFileSize: 553.7 KiB