Package: hierGWAS Version: 1.37.0 Command: /Library/Frameworks/R.framework/Resources/bin/R CMD check --install=check:hierGWAS.install-out.txt --library=/Library/Frameworks/R.framework/Resources/library --no-vignettes --timings hierGWAS_1.37.0.tar.gz StartedAt: 2025-02-04 21:01:24 -0500 (Tue, 04 Feb 2025) EndedAt: 2025-02-04 21:02:22 -0500 (Tue, 04 Feb 2025) EllapsedTime: 58.2 seconds RetCode: 0 Status: WARNINGS CheckDir: hierGWAS.Rcheck Warnings: 1