Package: hierGWAS Version: 1.37.0 Command: /Library/Frameworks/R.framework/Resources/bin/R CMD INSTALL hierGWAS StartedAt: 2025-02-04 15:30:33 -0500 (Tue, 04 Feb 2025) EndedAt: 2025-02-04 15:30:41 -0500 (Tue, 04 Feb 2025) EllapsedTime: 7.7 seconds RetCode: 0 Status: OK