Package: hierGWAS Version: 1.37.0 Command: /home/biocbuild/bbs-3.21-bioc/R/bin/R CMD INSTALL hierGWAS StartedAt: 2025-02-09 15:06:17 -0500 (Sun, 09 Feb 2025) EndedAt: 2025-02-09 15:06:41 -0500 (Sun, 09 Feb 2025) EllapsedTime: 24.0 seconds RetCode: 0 Status: OK