Package: hierGWAS Version: 1.37.0 Command: rm -rf hierGWAS.buildbin-libdir && mkdir hierGWAS.buildbin-libdir && E:\biocbuild\bbs-3.21-bioc\R\bin\R.exe CMD INSTALL --build --library=hierGWAS.buildbin-libdir hierGWAS_1.37.0.tar.gz StartedAt: 2025-02-04 08:08:55 -0500 (Tue, 04 Feb 2025) EndedAt: 2025-02-04 08:09:07 -0500 (Tue, 04 Feb 2025) EllapsedTime: 11.6 seconds RetCode: 0 Status: OK PackageFile: hierGWAS_1.37.0.zip PackageFileSize: 421.6 KiB