Package: hierGWAS Version: 1.37.0 Command: chmod a+r hierGWAS -R && E:\biocbuild\bbs-3.21-bioc\R\bin\R.exe CMD build --keep-empty-dirs --no-resave-data hierGWAS StartedAt: 2025-02-09 19:14:13 -0500 (Sun, 09 Feb 2025) EndedAt: 2025-02-09 19:16:01 -0500 (Sun, 09 Feb 2025) EllapsedTime: 108.4 seconds RetCode: 0 Status: OK PackageFile: hierGWAS_1.37.0.tar.gz PackageFileSize: 432.3 KiB