Package: hierGWAS Version: 1.37.0 Command: E:\biocbuild\bbs-3.21-bioc\R\bin\R.exe CMD check --no-multiarch --install=check:hierGWAS.install-out.txt --library=E:\biocbuild\bbs-3.21-bioc\R\library --no-vignettes --timings hierGWAS_1.37.0.tar.gz StartedAt: 2025-02-10 01:56:15 -0500 (Mon, 10 Feb 2025) EndedAt: 2025-02-10 01:57:19 -0500 (Mon, 10 Feb 2025) EllapsedTime: 63.5 seconds RetCode: 0 Status: WARNINGS CheckDir: hierGWAS.Rcheck Warnings: 1