Package: hierinf Version: 1.25.0 Command: rm -rf hierinf.buildbin-libdir && mkdir hierinf.buildbin-libdir && /Users/biocbuild/BBS/utils/build-universal.sh hierinf_1.25.0.tar.gz /Library/Frameworks/R.framework/Resources/bin/R hierinf.buildbin-libdir StartedAt: 2025-02-09 22:17:25 -0500 (Sun, 09 Feb 2025) EndedAt: 2025-02-09 22:17:27 -0500 (Sun, 09 Feb 2025) EllapsedTime: 2.0 seconds RetCode: 0 Status: OK PackageFile: hierinf_1.25.0.tgz PackageFileSize: 500.6 KiB