Package: hierinf Version: 1.25.0 Command: /Library/Frameworks/R.framework/Resources/bin/R CMD build --keep-empty-dirs --no-resave-data hierinf StartedAt: 2025-02-03 17:13:40 -0500 (Mon, 03 Feb 2025) EndedAt: 2025-02-03 17:14:21 -0500 (Mon, 03 Feb 2025) EllapsedTime: 41.4 seconds RetCode: 0 Status: OK PackageFile: hierinf_1.25.0.tar.gz PackageFileSize: 432.2 KiB