Package: hierinf Version: 1.25.0 Command: /Library/Frameworks/R.framework/Resources/bin/R CMD check --install=check:hierinf.install-out.txt --library=/Library/Frameworks/R.framework/Resources/library --no-vignettes --timings hierinf_1.25.0.tar.gz StartedAt: 2025-02-03 20:15:13 -0500 (Mon, 03 Feb 2025) EndedAt: 2025-02-03 20:16:26 -0500 (Mon, 03 Feb 2025) EllapsedTime: 73.9 seconds RetCode: 0 Status: OK CheckDir: hierinf.Rcheck Warnings: 0